Workbook

Sheet المحتوى | Content
A5: الرقم القياسي لأسعار المستهلك، سبتمبر 2025 م
A6: Consumer Price Index, September 2025
A7: 2023=100
B8: الجداول | C8: Tables
A9: 1 | B9: الأرقام القياسية ومعدلات التغير حسب أقسام الإنفاق | C9: Indices and Rates of Change by Expenditure Divisions | D9: 지출범주 중분류별 지수 및 백분율 변화
A10: 1.1 | B10: ملخص الأرقام القياسية ومعدلات التغير حسب أقسام الإنفاق | C10: Summary of Indices and Rates of Changes by Expenditure Divisions | D10: 지출범주 중분류별 지수 및 백분율 변화
A11: 2 | B11: الأرقام القياسية حسب فئات الإنفاق (تفصيلي) | C11: Indices by Expenditure Category(Detailed) | D11: 지출범주별 지수
A12: 2.1 | B12: الأرقام القياسية ومعدلات التغير حسب فئات الإنفاق | C12: Indices and Rates of Change by Expenditure Category | D12: 지출범주별 지수 및 백분율 변화
A13: 3 | B13: الأرقام القياسية حسب المنطقة وفئات الإنفاق | C13: Indices by Region and Expenditure category | D13: 지역별 및 지출범주별 지수
A14: 3.1 | B14: الأرقام القياسية حسب المنطقة وفئات الإنفاق | C14: Indices by Region and Expenditure Category | D14: 지역별 및 지출범주별 지수
A15: 3.2 | B15: معدل التغيّر السنوي حسب المنطقة وفئات الإنفاق | C15: Annual Rate of Change by Region and Expenditure Category | D15: 지역별 및 지출범주별 전년동월대비 백분율 변화
A16: 3.3 | B16: معدل التغيّر الشهري حسب المنطقة وفئات الإنفاق | C16: Monthly Rate of Change by Region and Expenditure Category | D16: 지역별 및 지출범주별 전월대비 백분율 변화
A17: 4 | B17: الأرقام القياسية حسب المنطقة | C17: Indices by Region | D17: 지역별 지수
A18: 4.1 | B18: سلسلة الأرقام القياسية حسب المنطقة | C18: Regional index Series | D18: 지역별 지수
A19: 4.2 | B19: سلسلة معدل التغيّر السنوي حسب المنطقة | C19: Regional Annual Rate of Change Series | D19: 지역별 전년동월대비 백분율 변화
A20: 4.3 | B20: سلسلة معدل التغيّر الشهري حسب المنطقة | C20: Regional Monthly Rate of Change Series | D20: 지역별 전월대비 백분율 변화
... A24: 5.3 | B24: سلسلة معدل التغيّر الشهري حسب فئات الإنفاق | C24: Monthly Rate of Change Series by Expenditure Category | D24: 지출범주별 전월대비 백분율 변화
B25: www.stats.gov.sa

Sheet 1.1 
A7: ملخص الأرقام القياسية ومعدلات التغير حسب أقسام الإنفاق، سبتمبر 2025م
A8: Indices and Rates of Changes Summary by Expenditure Divisions, September 2025
A9: 2023=100
A10: 지출범주 중분류별 지수 및 백분율 변화
A11: أقسام الإنفاق | C11: الأوزان (%) | D11: الأرقام القياسية | G11: معدل التغير لشهر سبتمبر 2025م مقارنة مع | I11: Expenditure Divisons | J11: 중분류
D12: Index Numbers 지수 | G12: Percent Change in September 2025 from
C13: Weights (%) 가중치 | D13: 45536 | E13: 45870 | F13: 45901 | G13: 45536 | H13: 45870
G14: 전년동월대비 백분율 변화 | H14: 전월대비 백분율 변화
A16: 0 | B16: الرقم القياسي العام | C16: 99.999224 | D16: 101.61678 | E16: 103.89494 | F16: 103.83057 | G16: 2.178564 | H16: -0.061956472 | I16: General Index | J16: 전항목
A17: 1 | B17: الأغذية والمشروبات | C17: 22.02493 | D17: 100.8325 | E17: 101.80517 | F17: 101.92404 | G17: 1.082525 | H17: 0.11676742 | I17: FOOD AND BEVERAGES | J17: 식료품 및 음료
A18: 2 | B18: التبغ | C18: 0.777585 | D18: 98.752945 | E18: 99.506485 | F18: 99.60404 | G18: 0.86184217 | H18: 0.098038589 | I18: TOBACCO | J18: 담배
A19: 3 | B19: الملابس والأحذية | C19: 3.6967967 | D19: 96.505918 | E19: 96.942466 | F19: 96.615734 | G19: 0.11379191 | H19: -0.33703728 | I19: CLOTHING AND FOOTWEAR | J19: 의류 및 신발
A20: 4 | B20: السكن والمياه والكهرباء والغاز وأنواع الوقود الأخرى | C20: 19.499564 | D20: 108.42134 | E20: 113.55505 | F20: 114.00968 | G20: 5.1542794 | H20: 0.40036379 | I20: HOUSING, WATER, ELECTRICITY, GAS AND OTHER FUELS | J20: 주택, 수도, 전기, 가스 및 기타 연료
A21: 5 | B21: الأثاث والأجهزة المنزلية والصيانة الدورية للمنزل | C21: 6.8928705 | D21: 98.325162 | E21: 98.045139 | F21: 97.772463 | G21: -0.56211368 | H21: -0.27811266 | I21: FURNISHINGS, HOUSEHOLD EQUIPMENT AND ROUTINE HOUSEHOLD MAINTENANCE | J21: 가구, 가사 비품 및 기타 생활용품
A22: 6 | B22: الصحة | C22: 4.3060443 | D22: 99.696467 | E22: 99.788445 | F22: 99.731146 | G22: 0.034783766 | H22: -0.057421278 | I22: HEALTH | J22: 보건
A23: 7 | B23: النقل | C23: 14.821433 | D23: 99.192087 | E23: 101.21988 | F23: 100.8196 | G23: 1.6407655 | H23: -0.39545551 | I23: TRANSPORT | J23: 운송
A24: 8 | B24: المعلومات والاتصالات | C24: 5.084826 | D24: 97.964838 | E24: 97.717125 | F24: 97.617709 | G24: -0.3543411 | H24: -0.10173879 | I24: INFORMATION AND COMMUNICATION | J24: 정보통신
A25: 9 | B25: الترفيه والرياضة والثقافة | C25: 3.2092658 | D25: 100.74771 | E25: 103.79241 | F25: 103.50074 | G25: 2.7326015 | H25: -0.28101201 | I25: RECREATION, SPORT AND CULTURE | J25: 오락, 스포츠 및 문화
A26: 10 | B26: خدمات التعليم | C26: 2.1898649 | D26: 101.19057 | E26: 102.0155 | F26: 102.36305 | G26: 1.1586844 | H26: 0.34068206 | I26: EDUCATION SERVICES | J26: 교육 서비스
A27: 11 | B27: المطاعم وخدمات الإقامة | C27: 8.6930701 | D27: 104.07118 | E27: 106.66294 | F27: 105.68133 | G27: 1.5471614 | H27: -0.92028748 | I27: RESTAURANTS AND ACCOMMODATION SERVICES | J27: 음식점 및 숙박 서비스
... A29: 13 | B29: العناية الشخصية والحماية الاجتماعية والسلع والخدمات الأخرى | C29: 5.7892172 | D29: 102.66494 | E29: 107.78447 | F29: 108.22078 | G29: 5.4116214 | H29: 0.40479707 | I29: PERSONAL CARE, SOCIAL PROTECTION AND MISCELLANEOUS GOODS AND SERVICES | J29: 개인 미용, 사회보장 및 기타 상품
A33: ملخص الأرقام القياسية الأساسية ومعدلات التغيرحسب أقسام الإنفاق،سبتمبر 2025م
A34: Summary of Core Inflation Indices and Rates of Change by Expenditure Divisions, September 2025
A35: 2023=100
A36: 근원물가지수 및 백분율 변화
A38: تفاصيل الأرقام القياسية | C38: الأوزان (%) | D38: الأرقام القياسية | G38: معدل التغير لشهر سبتمبر 2025م مقارنة مع | I38: Indicator details | J38: 설명
D39: Index Numbers 지수 | G39: Percent Change in September 2025 from
C40: Weights (%) 가중치 | D40: 45536 | E40: 45870 | F40: 45901 | G40: 45536 | H40: 45870
G41: 전년동월대비 백분율 변화 | H41: 전월대비 백분율 변화
B43: الرقم القياسي العام | C43: 99.999224 | D43: 101.61678 | E43: 103.89494 | F43: 103.83057 | G43: 2.178564 | H43: -0.061956472 | I43: General Index | J43: 전항목 소비자물가지수
B44: التضخم الأساسي (الإجمالي بدون الأغذية والمشروبات والطاقة) | C44: 71.076739 | D44: 101.93229 | E44: 104.80106 | F44: 104.6718 | G44: 2.6875839 | H44: -0.12333698 | I44: Core Consumer Price Index (excluding food and beverages divisions and energy items) | J44: 근원소비자물가지수; 식료품 및 음료 중분류 및 에너지 품목 제외
B45: الرقم القياسي لأسعار الطاقة | C45: 6.8975552 | D45: 100.95756 | E45: 101.48481 | F45: 101.48539 | G45: 0.5228216 | H45: 0.00057813927 | I45: Energy Price Index | J45: 에너지 물가 지수
B46: الرقم القياسي العام بدون أسعار الطاقة | C46: 93.101669 | D46: 101.66654 | E46: 104.07743 | F46: 104.00812 | G46: 2.3032011 | H46: -0.066587871 | I46: General Price Index Excluding Energy | J46: 전항목 소비자물가지수; 에너지 품목 제외
A51: ملخص الأرقام القياسية للسلع والخدمات ومعدلات التغير حسب أقسام الإنفاق،سبتمبر 2025م
A52: Summary of Goods and Services Indices and Rates of Change by Expenditure Divisions, September 2025
A53: 2023=100
A54: 상품 및 서비스 물가지수 및 백분율 변화
B55: تفاصيل الأرقام القياسية | C55: الأوزان (%) | D55: الأرقام القياسية | G55: معدل التغير لشهر سبتمبر 2025م مقارنة مع | I55: Indicator details | J55: 설명
D56: Index Numbers 지수 | G56: Percent Change in September 2025 from
C57: Weights (%) 가중치 | D57: 45536 | E57: 45870 | F57: 45901 | G57: 45536 | H57: 45870
...

Sheet 2.1
A5: الأرقام القياسية ومعدلات التغير حسب فئات الإنفاق، سبتمبر 2025
A6: Indices And Rates Of Change By Expenditure Category, September 2025
A7: 2023=100
A8: 지출범주별 지수 및 백분율 변화
A9: الدرجة | B9: التصنيف * | C9: فئات الإنفاق (الأقسام والمجموعات والفصول والفئات والفئات الفرعية) | D9: الأوزان (%) | E9: الأرقام القياسية | H9: معدل التغير لشهر سبتمبر 2025م مقارنة مع | J9: Expenditure categories (departments, groups, chapters, categories and subcategories) | K9: 지출범주 | L9: Classification *
E10: Index Numbers 지수 | H10: Percent Change in September 2025 from
D11: Weights (%) 가중치 | E11: 45536 | F11: 45870 | G11: 45901 | H11: 45536 | I11: 45870
H12: 전년동월대비 백분율 변화 | I12: 전월대비 백분율 변화 | L12: classification
A13: Level
A14: 0 | B14: - | C14: الرقم القياسي العام | D14: 99.999224 | E14: 101.61678 | F14: 103.89494 | G14: 103.83057 | H14: 2.178564 | I14: -0.061956472 | J14: General Index | K14: 일반지수 | L14: -
A15: 1 | B15: - | C15: الأغذية والمشروبات | D15: 22.02493 | E15: 100.8325 | F15: 101.80517 | G15: 101.92404 | H15: 1.082525 | I15: 0.11676742 | J15: FOOD AND BEVERAGES | K15: 식료품 및 음료 | L15: -
A16: 2 | B16: - | C16: الأغذية | D16: 21.354825 | E16: 100.81732 | F16: 101.79929 | G16: 101.92286 | H16: 1.0965762 | I16: 0.12138275 | J16: FOOD | K16: 식료품 | L16: -
A17: 3 | B17: غ | C17: الحبوب ومنتجات الحبوب | D17: 4.0371521 | E17: 100.90265 | F17: 101.23329 | G17: 101.09035 | H17: 0.18601744 | I17: -0.14119922 | J17: Cereals and cereal | K17: 곡물 및 곡물제품 | L17: ND
A18: 4 | B18: غ | C18: الحبوب | D18: 1.8818628 | E18: 102.41561 | F18: 102.87319 | G18: 102.61317 | H18: 0.1928997 | I18: -0.25276457 | J18: Cereals | K18: 곡물 | L18: ND
A19: 5 | B19: غ | C19: القمح (بجميع أنواعه، بما في ذلك المطحون) | D19: 0.46432749 | E19: 99.739378 | F19: 103.5513 | G19: 103.7116 | H19: 3.982599 | I19: 0.15479662 | J19: Wheat (all kinds, including ground) | K19: 밀 | L19: ND
A20: 5 | B20: غ | C20: الأرز (بجميع أنواعه) | D20: 1.2830241 | E20: 104.08471 | F20: 103.04763 | G20: 102.52505 | H20: -1.4984542 | I20: -0.50712517 | J20: Rice (of all types) | K20: 쌀 | L20: ND
A21: 5 | B21: غ | C21: محاصيل الحبوب الأخرى | D21: 0.13451122 | E21: 96.812934 | F21: 99.187241 | G21: 99.958719 | H21: 3.2493441 | I21: 0.7778001 | J21: Other cereal crops | K21: 기타 곡물 | L21: ND
A22: 4 | B22: غ | C22: دقيق الحبوب | D22: 0.32411652 | E22: 97.315493 | F22: 99.118725 | G22: 98.765898 | H22: 1.4904161 | I22: -0.35596361 | J22: Flour of cereals | K22: 곡분 | L22: ND
A23: 5 | B23: غ | C23: دقيق القمح (بجميع أنواعه) | D23: 0.23301454 | E23: 96.813953 | F23: 98.524324 | G23: 98.084138 | H23: 1.3119847 | I23: -0.44677946 | J23: Wheat flour (of all types) | K23: 밀가루 | L23: ND
A24: 5 | B24: غ | C24: أنواع أخرى من دقيق محاصيل الحبوب | D24: 0.091101976 | E24: 98.608224 | F24: 100.65507 | G24: 100.53096 | H24: 1.9498713 | I24: -0.1233038 | J24: Other types of flour of cereal crops | K24: 기타 곡분 | L24: ND
A25: 4 | B25: غ | C25: الخبز ومنتجات المخابز | D25: 1.1381804 | E25: 100.41871 | F25: 100.44855 | G25: 100.51526 | H25: 0.096154188 | I25: 0.066413659 | J25: Bread and bakery products | K25: 빵 및 제빵 제품 | L25: ND
... A749: 5 | B749: خ | C749: المبالغ المسددة مقابل خدمات المحامين وكتاب العدل والمحاسبين، وغيرها | D749: 0.36976383 | E749: 94.638792 | F749: 94.456098 | G749: 94.458994 | H749: -0.18998281 | I749: 0.0030656762 | J749: Payment for the services of lawyers, notaries, accountants, etc. | K749: 변호사, 공증인, 회계사 등 서비스 수수료 | L749: S
A753: * رموز التصنيف تشير إلى: | L753: * Classification symbols refer to (분류기호 설명):
A754: (م) السلع المعمَّرة | L754: (D) Durable goods (내구재)
A755: (ش) السلع شبه المعمَّرة | L755: (S) Semi-durable goods (반내구재)
A756: (غ) السلع غير المعمَّرة | L756: (ND) Non-durable goods (비내구재)
A757: (خ) الخدمات | L757: (S) Services (서비스)
A758: (-) لاينطبق | L758: (-) N&A (해당없음)

Sheet 3.1
Q2: الأرقام القياسية Index Numbers | R2: الأرقام القياسية Index Numbers
A4: الأرقام القياسية حسب المنطقة وفئة الإنفاق، سبتمبر 2025م
A5: Indices By Region And Expenditure Category, September 2025
A6: 2023=100
A7: 지역별 및 지출범주별 지수
A8: فئة الإنفاق: الأقسام و المجموعات | C8: الأرقام القياسية Index Numbers 지수 | Q8: Expenditure Category:Divisions and Groups | R8: 지출범주
C10: جميع المناطق | D10: الرياض | E10: مكة المكرمة | F10: المدينة المنورة | G10: القصيم | H10: المنطقة الشرقية | I10: عسير | J10: تبوك | K10: حائل | L10: الحدود الشمالية | M10: جازان | N10: نجران | O10: الباحة | P10: الجوف
C11: All Regions | D11: Riyadh | E11: Makkah | F11: Madinah | G11: Al Qassim | H11: Eastern Province | I11: Aseer | J11: Tabouk | K11: Hail | L11: Northern Borders | M11: Jazan | N11: Najran | O11: Al Baha | P11: Al Jouf
A12: 0 | B12: الرقم القياسي العام | C12: 103.83057 | D12: 105.87273 | E12: 101.51439 | F12: 105.92056 | G12: 108.69329 | H12: 102.40139 | I12: 101.15857 | J12: 101.19294 | K12: 103.56705 | L12: 102.43962 | M12: 103.42542 | N12: 106.49181 | O12: 102.63515 | P12: 102.04472 | Q12: General Index | R12: =VLOOKUP(Q12,'2.1'!J:K,2,0) -> 일반지수
A13: 1 | B13: الأغذية والمشروبات | C13: 101.92404 | D13: 100.99785 | E13: 102.20368 | F13: 103.5857 | G13: 105.47204 | H13: 101.51487 | I13: 99.432136 | J13: 98.463214 | K13: 103.21388 | L13: 101.54692 | M13: 104.52535 | N13: 106.31466 | O13: 101.50919 | P13: 102.82275 | Q13: FOOD AND BEVERAGES | R13: =VLOOKUP(Q13,'2.1'!J:K,2,0) -> 식료품 및 음료
A14: 2 | B14: الأغذية | C14: 101.92286 | D14: 100.98132 | E14: 102.29363 | F14: 103.59594 | G14: 105.47064 | H14: 101.53641 | I14: 99.398635 | J14: 98.408885 | K14: 103.20065 | L14: 101.52295 | M14: 104.20101 | N14: 106.3735 | O14: 101.49652 | P14: 102.81231 | Q14: FOOD | R14: =VLOOKUP(Q14,'2.1'!J:K,2,0) -> 식료품
A15: 2 | B15: المشروبات | C15: 101.7485 | D15: 100.78851 | E15: 99.48205 | F15: 101.94342 | G15: 104.56207 | H15: 101.02471 | I15: 101.21174 | J15: 99.81979 | K15: 104.55649 | L15: 102.38445 | M15: 112.64988 | N15: 101.93735 | O15: 102.01657 | P15: 103.22556 | Q15: BEVERAGES | R15: =VLOOKUP(Q15,'2.1'!J:K,2,0) -> 음료
A16: 2 | B16: خدمات تجهيز السلع الأولية والمشروبات | C16: 106.52299 | D16: 109.81197 | E16: 90.024579 | F16: 139.82397 | G16: 161.55905 | H16: 94.072258 | I16: 95.82202 | J16: 109.36746 | K16: 84.206764 | L16: 100.04205 | M16: 108.22829 | N16: 156.34921 | O16: 101.79648 | P16: 103.65475 | Q16: SERVICES FOR PROCESSING PRIMARY GOODS FOR FOOD AND BEVERAGES | R16: =VLOOKUP(Q16,'2.1'!J:K,2,0) -> 식품 및 음료 가공 서비스
A17: 1 | B17: التبغ | C17: 99.60404 | D17: 99.131934 | E17: 98.985422 | F17: 101.52154 | G17: 99.137056 | H17: 99.408915 | I17: 105.5766 | J17: 99.554384 | K17: 98.650258 | L17: 93.803921 | M17: 104.83225 | N17: 101.70223 | O17: 97.75456 | P17: 97.130722 | Q17: TOBACCO | R17: =VLOOKUP(Q17,'2.1'!J:K,2,0) -> 담배
A18: 2 | B18: التبغ | C18: 99.60404 | D18: 99.131934 | E18: 98.985422 | F18: 101.52154 | G18: 99.137056 | H18: 99.408915 | I18: 105.5766 | J18: 99.554384 | K18: 98.650258 | L18: 93.803921 | M18: 104.83225 | N18: 101.70223 | O18: 97.75456 | P18: 97.130722 | Q18: TOBACCO | R18: =VLOOKUP(Q18,'2.1'!J:K,2,0) -> 담배
A19: 1 | B19: الملابس والأحذية | C19: 96.615734 | D19: 95.996406 | E19: 94.632389 | F19: 98.053085 | G19: 112.84967 | H19: 94.514849 | I19: 100.0649 | J19: 91.979578 | K19: 95.253381 | L19: 94.325487 | M19: 104.65798 | N19: 98.713102 | O19: 99.215103 | P19: 103.63552 | Q19: CLOTHING AND FOOTWEAR | R19: =VLOOKUP(Q19,'2.1'!J:K,2,0) -> 의류 및 신발
A20: 2 | B20: الملابس | C20: 96.530353 | D20: 95.990756 | E20: 95.260586 | F20: 97.900077 | G20: 112.92722 | H20: 93.784178 | I20: 98.952241 | J20: 92.706967 | K20: 95.529938 | L20: 93.911278 | M20: 103.41933 | N20: 98.981415 | O20: 99.252716 | P20: 104.16986 | Q20: CLOTHING | R20: =VLOOKUP(Q20,'2.1'!J:K,2,0) -> 의류
A21: 2 | B21: الأحذية | C21: 97.495572 | D21: 96.047371 | E21: 87.384988 | F21: 99.680774 | G21: 112.15991 | H21: 101.91318 | I21: 112.40026 | J21: 84.995166 | K21: 92.125958 | L21: 98.180636 | M21: 121.88879 | N21: 95.328401 | O21: 98.779863 | P21: 98.081818 | Q21: FOOTWEAR | R21: =VLOOKUP(Q21,'2.1'!J:K,2,0) -> 신발
A22: 1 | B22: السكن والمياه والكهرباء والغاز وأنواع الوقود الأخرى | C22: 114.00968 | D22: 124.75907 | E22: 105.35641 | F22: 116.85929 | G22: 124.202 | H22: 108.43784 | I22: 107.28146 | J22: 112.87378 | K22: 114.17842 | L22: 111.88141 | M22: 102.92201 | N22: 118.66687 | O22: 107.16741 | P22: 106.5789 | Q22: HOUSING, WATER, ELECTRICITY, GAS AND OTHER FUELS | R22: =VLOOKUP(Q22,'2.1'!J:K,2,0) -> 주택, 수도, 전기, 가스 및 기타 연료
A23: 2 | B23: الإيجارات الفعلية للسكن | C23: 118.8521 | D23: 137.43543 | E23: 106.5277 | F23: 126.13681 | G23: 142.50515 | H23: 110.73482 | I23: 115.84182 | J23: 118.96488 | K23: 122.34931 | L23: 119.36402 | M23: 100.96168 | N23: 126.33226 | O23: 111.26331 | P23: 111.17769 | Q23: ACTUAL RENTALS FOR HOUSING | R23: =VLOOKUP(Q23,'2.1'!J:K,2,0) -> 주택 지불 임차료
... A37: 2 | B37: خدمات العيادات الخارجية | C37: 100.2879 | D37: 96.806026 | E37: 100.2717 | F37: 102.58536 | G37: 107.30203 | H37: 100.48992 | I37: 102.73831 | J37: 99.216067 | K37: 101.45876 | L37: 99.109446 | M37: 103.49553 | N37: 100.97366 | O37: 107.70617 | P37: 97.990919 | Q37: OUTPATIENT CARE SERVICES | R37: =VLOOKUP(Q37,'2.1'!J:K,2,0) -> 외래 환자 치료 서비스
A38: 2 | B38: خدمات الرعاية الداخلية (التنويم) | C38: 99.069997 | D38: 100.42529 | E38: 100.01892 | F38: 102.63093 | G38: 101.09003 | H38: 98.280337 | I38: 97.25103 | J38: 92.187526 | K38: 97.23254 | L38: - | M38: 98.490803 | N38: 115.40566 | O38: 92.94653 | P38: 93.968514 | Q38: INPATIENT CARE SERVICES | R38: =VLOOKUP(Q38,'2.1'!J:K,2,0) -> 입원 환자 치료 서비스
A39: 2 | B39: خدمات التصوير التشخيصي وخدمات المختبرات الطبية | C39: 100.47969 | D39: 99.184604 | E39: 101.78615 | F39: 94.404471 | G39: 102.48635 | H39: 99.715014 | I39: 110.56949 | J39: 96.186818 | K39: 103.00188 | L39: 103.64895 | M39: 100.53481 | N39: 105.65846 | O39: 109.45057 | P39: 96.819994 | Q39: Diagnostic imaging services and medical laboratory services | R39: =VLOOKUP(Q39,'2.1'!J:K,2,0) -> 진단 영상 및 의료 검사 서비스
A40: 1 | B40: النقل | C40: 100.8196 | D40: 100.41241 | E40: 100.84604 | F40: 102.07723 | G40: 103.32258 | H40: 101.62824 | I40: 100.34288 | J40: 99.847511 | K40: 97.380102 | L40: 98.343222 | M40: 99.717402 | N40: 100.91849 | O40: 104.58509 | P40: 100.84404 | Q40: TRANSPORT | R40: =VLOOKUP(Q40,'2.1'!J:K,2,0) -> 운송
A41: 2 | B41: شراء المركبات | C41: 95.811076 | D41: 90.932909 | E41: 103.57575 | F41: 101.4966 | G41: 105.48134 | H41: 98.128732 | I41: 98.687782 | J41: 99.691771 | K41: 95.431314 | L41: 94.799554 | M41: 97.496276 | N41: 106.67829 | O41: 109.11205 | P41: 93.796623 | Q41: PURCHASE OF VEHICLES | R41: =VLOOKUP(Q41,'2.1'!J:K,2,0) -> 개인 운송장비 구매
A42: 2 | B42: تشغيل معدات النقل الشخصية | C42: 99.926843 | D42: 96.905977 | E42: 100.4098 | F42: 102.61794 | G42: 103.31076 | H42: 101.51145 | I42: 100.92477 | J42: 100.77481 | K42: 99.330238 | L42: 101.90921 | M42: 102.45682 | N42: 101.07454 | O42: 104.36759 | P42: 102.01426 | Q42: OPERATION OF PERSONAL TRANSPORT EQUIPMENT | R42: =VLOOKUP(Q42,'2.1'!J:K,2,0) -> 개인 운송장비 운영
A43: 2 | B43: خدمات نقل الركاب | C43: 106.74544 | D43: 111.8305 | E43: 101.52108 | F43: 100.77623 | G43: 100.89266 | H43: 106.10852 | I43: 101.66267 | J43: 96.573246 | K43: 92.869771 | L43: 91.098337 | M43: 95.138408 | N43: 98.110767 | O43: 94.992742 | P43: 102.57942 | Q43: PASSENGER TRANSPORT SERVICES | R43: =VLOOKUP(Q43,'2.1'!J:K,2,0) -> 여객 운송 서비스
A44: 2 | B44: خدمات نقل البضائع | C44: 92.040269 | D44: 81.240967 | E44: 101.42804 | F44: 102.32861 | G44: 82.547975 | H44: 87.040399 | I44: 84.162239 | J44: 115.91795 | K44: 103.09933 | L44: 82.083844 | M44: 77.019273 | N44: 85.690771 | O44: 80.295206 | P44: 98.914666 | Q44: TRANSPORT SERVICES OF GOODS | R44: =VLOOKUP(Q44,'2.1'!J:K,2,0) -> 상품 운송 서비스
A45: 1 | B45: المعلومات والاتصالات | C45: 97.617709 | D45: 96.498633 | E45: 98.119821 | F45: 98.21684 | G45: 99.214503 | H45: 96.796236 | I45: 97.121049 | J45: 95.255434 | K45: 99.853397 | L45: 99.256838 | M45: 101.7499 | N45: 100.82628 | O45: 95.805761 | P45: 98.82914 | Q45: INFORMATION AND COMMUNICATION | R45: =VLOOKUP(Q45,'2.1'!J:K,2,0) -> 정보통신
A46: 2 | B46: معدات المعلومات والاتصالات | C46: 84.690652 | D46: 80.432549 | E46: 79.280662 | F46: 84.947625 | G46: 89.314535 | H46: 87.502971 | I46: 86.955268 | J46: 79.301133 | K46: 90.604038 | L46: 91.79803 | M46: 101.9937 | N46: 90.891888 | O46: 88.494628 | P46: 92.633194 | Q46: Information and communication equipment | R46: =VLOOKUP(Q46,'2.1'!J:K,2,0) -> 정보통신 기기
A47: 2 | B47: المعلومات والاتصالات | C47: 101.72584 | D47: 101.33497 | E47: 102.11783 | F47: 101.87337 | G47: 101.78802 | H47: 101.25897 | I47: 101.91986 | J47: 101.81536 | K47: 102.54239 | L47: 101.4494 | M47: 101.68695 | N47: 103.33743 | O47: 101.87513 | P47: 101.4152 | Q47: INFORMATION AND COMMUNICATION | R47: =VLOOKUP(Q47,'2.1'!J:K,2,0) -> 정보통신
A48: 1 | B48: الترفيه والرياضة والثقافة | C48: 103.50074 | D48: 104.22566 | E48: 100.4473 | F48: 100.01151 | G48: 106.58642 | H48: 107.21705 | I48: 93.828932 | J48: 100.68027 | K48: 98.113941 | L48: 95.793475 | M48: 101.52142 | N48: 98.150446 | O48: 96.537473 | P48: 97.679728 | Q48: RECREATION, SPORT AND CULTURE | R48: =VLOOKUP(Q48,'2.1'!J:K,2,0) -> 오락, 스포츠 및 문화
A49: 2 | B49: السلع الترفيهية المعمرة | C49: 91.281763 | D49: 86.200096 | E49: 88.523231 | F49: 95.276397 | G49: 84.874214 | H49: 100.9379 | I49: 86.953573 | J49: 89.927664 | K49: 90.391599 | L49: 90.789392 | M49: 88.756062 | N49: 89.909211 | O49: 101.18976 | P49: 91.01601 | Q49: RECREATIONAL DURABLES | R49: =VLOOKUP(Q49,'2.1'!J:K,2,0) -> 오락용 내구재
A50: 2 | B50: السلع الترفيهية الأخرى | C50: 94.940124 | D50: 97.533337 | E50: 85.187748 | F50: 81.603344 | G50: 106.67837 | H50: 99.586992 | I50: 86.323697 | J50: 93.481006 | K50: 94.539114 | L50: 88.323955 | M50: 110.40888 | N50: 91.711011 | O50: 98.168782 | P50: 87.439302 | Q50: OTHER RECREATIONAL GOODS | R50: =VLOOKUP(Q50,'2.1'!J:K,2,0) -> 기타 오락용품
... A52: 2 | B52: الخدمات الترفيهية | C52: 97.750127 | D52: 98.20124 | E52: 92.669867 | F52: 94.3986 | G52: 107.55741 | H52: 97.429282 | I52: 90.721786 | J52: 113.95064 | K52: 99.191524 | L52: 95.044012 | M52: 123.77211 | N52: 102.33782 | O52: 105.78388 | P52: 106.85009 | Q52: RECREATIONAL SERVICES | R52: =VLOOKUP(Q52,'2.1'!J:K,2,0) -> 오락 서비스
A53: 2 | B53: السلع الثقافية | C53: 105.05743 | D53: 107.58249 | E53: 106.26361 | F53: 100.98763 | G53: 110.10115 | H53: 104.26511 | I53: 100 | J53: 100.5223 | K53: 93.02826 | L53: 100 | M53: 97.979764 | N53: - | O53: 89.089744 | P53: 100 | Q53: CULTURAL GOODS | R53: =VLOOKUP(Q53,'2.1'!J:K,2,0) -> 악기, 음반 및 비디오물
A54: 2 | B54: الخدمات الثقافية | C54: 102.97978 | D54: 103.86876 | E54: 104.34178 | F54: 97.718335 | G54: 118.83514 | H54: 101.45213 | I54: 102.2026 | J54: 94.336778 | K54: 94.286335 | L54: 104.09684 | M54: 100.90879 | N54: 66.996147 | O54: 92.913095 | P54: 103.7117 | Q54: Cultural services | R54: =VLOOKUP(Q54,'2.1'!J:K,2,0) -> 문화 서비스
A55: 2 | B55: الصحف والكتب والقرطاسية | C55: 101.11935 | D55: 103.27786 | E55: 102.2061 | F55: 102.74936 | G55: 108.6381 | H55: 97.376413 | I55: 97.12226 | J55: 100.53616 | K55: 99.935193 | L55: 101.09569 | M55: 100.4015 | N55: 101.40686 | O55: 99.247091 | P55: 91.165305 | Q55: NEWSPAPERS, BOOKS AND STATIONERY | R55: =VLOOKUP(Q55,'2.1'!J:K,2,0) -> 서적, 신문 및 문구용품
A56: 2 | B56: عروض العطلات | C56: 109.68377 | D56: 112.60505 | E56: 109.44694 | F56: 110.69773 | G56: 104.76504 | H56: 113.24347 | I56: 93.870344 | J56: 107.949 | K56: 101.06414 | L56: 93.62835 | M56: 96.77006 | N56: 105.36654 | O56: 92.615044 | P56: 109.66285 | Q56: PACKAGE HOLIDAYS | R56: =VLOOKUP(Q56,'2.1'!J:K,2,0) -> 단체여행
A57: 1 | B57: خدمات التعليم | C57: 102.36305 | D57: 102.25903 | E57: 104.71312 | F57: 99.181049 | G57: 102.16236 | H57: 102.90987 | I57: 99.215204 | J57: 104.26132 | K57: 100.16099 | L57: 98.015124 | M57: 100.34292 | N57: 101.71294 | O57: 99.85019 | P57: 100.46808 | Q57: EDUCATION SERVICES | R57: =VLOOKUP(Q57,'2.1'!J:K,2,0) -> 교육서비스
...

Sheet 3.2 
A3: معدل التغيّر السنوي حسب المنطقة وفئة الإنفاق،سبتمبر 2025م
A4: Anuual Rate of Change by Region And Expenditure Category, September 2025
A5: 2023=100
A6: 지역별 및 지출범주별 전년동월대비 백분율 변화
A7: فئة الإنفاق: الأقسام و المجموعات | C7: جميع المناطق | D7: الرياض | E7: مكة المكرمة | F7: المدينة المنورة | G7: القصيم | H7: المنطقة الشرقية | I7: عسير | J7: تبوك | K7: حائل | L7: الحدود الشمالية | M7: جازان | N7: نجران | O7: الباحة | P7: الجوف | Q7: Expenditure Category:Divisions and Groups | R7: 지출범주
C8: All Regions | D8: Riyadh | E8: Makkah | F8: Madinah | G8: Al Qassim | H8: Eastern Province | I8: Aseer | J8: Tabouk | K8: Hail | L8: Northern Borders | M8: Jazan | N8: Najran | O8: Al Baha | P8: Al Jouf
H9: معدل التغيّر السنوي (%)
H10: Annual rate of change (%) 전년동월대비 백분율 변화
A11: 0 | B11: الرقم القياسي العام | C11: 2.178564 | D11: 3.402596 | E11: 1.5626264 | F11: 2.872873 | G11: 1.2370025 | H11: 1.1024564 | I11: 0.93756856 | J11: 1.4410754 | K11: 0.75041711 | L11: 1.232088 | M11: 2.1800976 | N11: 4.7304002 | O11: 2.0822379 | P11: 0.46533398 | Q11: General Index | R11: =VLOOKUP(Q11,'3.1'!Q:R,2,0) -> 일반지수
A12: 1 | B12: الأغذية والمشروبات | C12: 1.082525 | D12: 0.61044865 | E12: 2.1232268 | F12: 2.217624 | G12: 1.4390553 | H12: 0.18901584 | I12: -0.70508002 | J12: 0.89809871 | K12: -0.80625998 | L12: -0.75517421 | M12: 1.7434918 | N12: 6.2416425 | O12: 0.62605389 | P12: 0.036431433 | Q12: FOOD AND BEVERAGES | R12: =VLOOKUP(Q12,'3.1'!Q:R,2,0) -> 식료품 및 음료
A13: 2 | B13: الأغذية | C13: 1.0965762 | D13: 0.62038228 | E13: 2.2207363 | F13: 2.2806023 | G13: 1.436438 | H13: 0.20296378 | I13: -0.78617114 | J13: 0.90299983 | K13: -0.95500705 | L13: -0.85135085 | M13: 1.6144445 | N13: 6.3033614 | O13: 0.5719336 | P13: -0.070947231 | Q13: FOOD | R13: =VLOOKUP(Q13,'3.1'!Q:R,2,0) -> 식료품
A14: 2 | B14: المشروبات | C14: 0.68599946 | D14: 0.24166731 | E14: -1.0742788 | F14: 0.15165311 | G14: 1.6621452 | H14: -0.039117492 | I14: 2.9580432 | J14: 0.64866925 | K14: 4.9974245 | L14: 2.2770603 | M14: 4.7382884 | N14: 3.0627402 | O14: 2.9001687 | P14: 3.4908865 | Q14: BEVERAGES | R14: =VLOOKUP(Q14,'3.1'!Q:R,2,0) -> 음료
A15: 2 | B15: خدمات تجهيز السلع الأولية والمشروبات | C15: -0.28902957 | D15: 1.0270146 | E15: -2.0429837 | F15: -0.73454209 | G15: -2.4044226 | H15: -7.5817889 | I15: -4.1779804 | J15: 4.8104783 | K15: -15.793236 | L15: 0.042046278 | M15: 9.4760035 | N15: 19.8361 | O15: 0.58316784 | P15: 3.6547505 | Q15: SERVICES FOR PROCESSING PRIMARY GOODS FOR FOOD AND BEVERAGES | R15: =VLOOKUP(Q15,'3.1'!Q:R,2,0) -> 식품 및 음료 가공 서비스
A16: 1 | B16: التبغ | C16: 0.86184217 | D16: 2.1897011 | E16: -0.60383176 | F16: 1.3546948 | G16: 0.27889781 | H16: 0.49840728 | I16: 4.5710854 | J16: 0.84053579 | K16: 1.1607508 | L16: 0.86912952 | M16: -0.055223402 | N16: 1.6466234 | O16: -0.16796775 | P16: 1.5412277 | Q16: TOBACCO | R16: =VLOOKUP(Q16,'3.1'!Q:R,2,0) -> 담배
A17: 2 | B17: التبغ | C17: 0.86184217 | D17: 2.1897011 | E17: -0.60383176 | F17: 1.3546948 | G17: 0.27889781 | H17: 0.49840728 | I17: 4.5710854 | J17: 0.84053579 | K17: 1.1607508 | L17: 0.86912952 | M17: -0.055223402 | N17: 1.6466234 | O17: -0.16796775 | P17: 1.5412277 | Q17: TOBACCO | R17: =VLOOKUP(Q17,'3.1'!Q:R,2,0) -> 담배
A18: 1 | B18: الملابس والأحذية | C18: 0.11379191 | D18: -0.27896902 | E18: 0.35923262 | F18: 0.22625329 | G18: -0.16119791 | H18: 0.5803486 | I18: 1.5056707 | J18: -2.0947853 | K18: -5.3352373 | L18: -2.4428297 | M18: 0.83640235 | N18: 2.4615921 | O18: 0.22994371 | P18: 1.3945932 | Q18: CLOTHING AND FOOTWEAR | R18: =VLOOKUP(Q18,'3.1'!Q:R,2,0) -> 의류 및 신발
A19: 2 | B19: الملابس | C19: 0.10097512 | D19: -0.075270206 | E19: 0.5413115 | F19: 0.11883912 | G19: 0.11168869 | H19: -0.067991282 | I19: 1.5946099 | J19: -1.8526207 | K19: -5.4269308 | L19: -2.6974515 | M19: 0.66974044 | N19: 3.0044285 | O19: 0.42798289 | P19: 1.3411271 | Q19: CLOTHING | R19: =VLOOKUP(Q19,'3.1'!Q:R,2,0) -> 의류
A20: 2 | B20: الأحذية | C20: 0.24480942 | D20: -2.0904021 | E20: -1.9146055 | F20: 1.3636693 | G20: -2.7949939 | H20: 7.0744134 | I20: 0.42547842 | J20: -4.3496651 | K20: -4.2246619 | L20: -0.10295374 | M20: 3.1460544 | N20: -4.6813721 | O20: -2.1204741 | P20: 2.2831051 | Q20: FOOTWEAR | R20: =VLOOKUP(Q20,'3.1'!Q:R,2,0) -> 신발
A21: 1 | B21: السكن والمياه والكهرباء والغاز وأنواع الوقود الأخرى | C21: 5.1542794 | D21: 9.2450782 | E21: 1.751577 | F21: 6.4600766 | G21: 3.5022269 | H21: 2.3864886 | I21: 3.7806215 | J21: 4.8241542 | K21: 7.3362337 | L21: 6.3597319 | M21: 2.4345801 | N21: 7.6869387 | O21: 2.6295682 | P21: 1.1998421 | Q21: HOUSING, WATER, ELECTRICITY, GAS AND OTHER FUELS | R21: =VLOOKUP(Q21,'3.1'!Q:R,2,0) -> 주택, 수도, 전기, 가스 및 기타 연료
A22: 2 | B22: الإيجارات الفعلية للسكن | C22: 6.7163488 | D22: 13.822334 | E22: 1.5226358 | F22: 9.8569239 | G22: 5.3288531 | H22: 2.9524708 | I22: 4.8446948 | J22: 6.9901819 | K22: 11.054241 | L22: 9.1118927 | M22: 4.4591684 | N22: 10.441672 | O22: 1.6126655 | P22: 1.5736444 | Q22: ACTUAL RENTALS FOR HOUSING | R22: =VLOOKUP(Q22,'3.1'!Q:R,2,0) -> 주택 지불 임차료
... A36: 2 | B36: خدمات العيادات الخارجية | C36: -0.093171424 | D36: -3.173852 | E36: 1.7766328 | F36: 2.3376118 | G36: 0.3780149 | H36: 0.83905938 | I36: 2.1866536 | J36: -2.3154338 | K36: 0.1985599 | L36: 0.23232199 | M36: 2.6811251 | N36: -0.12918891 | O36: 2.184617 | P36: -0.58591318 | Q36: OUTPATIENT CARE SERVICES | R36: =VLOOKUP(Q36,'3.1'!Q:R,2,0) -> 외래 환자 치료 서비스
A37: 2 | B37: خدمات الرعاية الداخلية (التنويم) | C37: -0.068182617 | D37: 1.9264516 | E37: 0.070077127 | F37: 2.9463854 | G37: 0.18392735 | H37: -0.93573047 | I37: -2.1612906 | J37: -7.9018281 | K37: -1.6888382 | L37: - | M37: 0.046510435 | N37: 0.68919971 | O37: -5.5433437 | P37: -5.1984242 | Q37: INPATIENT CARE SERVICES | R37: =VLOOKUP(Q37,'3.1'!Q:R,2,0) -> 입원 환자 치료 서비스
A38: 2 | B38: خدمات التصوير التشخيصي وخدمات المختبرات الطبية | C38: -2.9217058 | D38: -5.6282638 | E38: -0.048949018 | F38: -5.2121464 | G38: -1.4173954 | H38: -1.5049485 | I38: 0.68097571 | J38: -3.4225617 | K38: 0.97809812 | L38: -1.3805511 | M38: -5.2610677 | N38: 8.8351387 | O38: 5.8259495 | P38: -5.529064 | Q38: Diagnostic imaging services and medical laboratory services | R38: =VLOOKUP(Q38,'3.1'!Q:R,2,0) -> 진단 영상 및 의료 검사 서비스
A39: 1 | B39: النقل | C39: 1.6407655 | D39: 3.6863631 | E39: 0.26880676 | F39: 1.3912317 | G39: -0.77726071 | H39: 0.486417 | I39: -1.1168112 | J39: 1.5106574 | K39: -2.7351081 | L39: -0.27329573 | M39: 2.1551694 | N39: 0.57048858 | O39: 3.4341843 | P39: 1.0669334 | Q39: TRANSPORT | R39: =VLOOKUP(Q39,'3.1'!Q:R,2,0) -> 운송
A40: 2 | B40: شراء المركبات | C40: -1.3331044 | D40: -2.3989033 | E40: 5.363179 | F40: 1.7533824 | G40: -0.048592664 | H40: -2.371988 | I40: -0.32373292 | J40: 0.80489989 | K40: -5.9894973 | L40: -4.1427266 | M40: -1.2360769 | N40: 3.4993234 | O40: 7.6842992 | P40: -1.4963399 | Q40: PURCHASE OF VEHICLES | R40: =VLOOKUP(Q40,'3.1'!Q:R,2,0) -> 개인 운송장비 구매
A41: 2 | B41: تشغيل معدات النقل الشخصية | C41: 0.11058105 | D41: -0.062457722 | E41: 0.23372156 | F41: 2.1242582 | G41: -1.4407399 | H41: -0.17667044 | I41: -0.80622692 | J41: 1.5904021 | K41: -0.70513773 | L41: 1.7521324 | M41: 1.0616692 | N41: 0.011233355 | O41: 1.4491965 | P41: 0.44049378 | Q41: OPERATION OF PERSONAL TRANSPORT EQUIPMENT | R41: =VLOOKUP(Q41,'3.1'!Q:R,2,0) -> 개인 운송장비 운영
A42: 2 | B42: خدمات نقل الركاب | C42: 6.8888006 | D42: 12.531266 | E42: -1.2112983 | F42: -1.0237787 | G42: 0.5706859 | H42: 4.8882233 | I42: -3.6575709 | J42: 1.4209272 | K42: -2.7584051 | L42: -3.6657979 | M42: 8.2938368 | N42: 1.0073408 | O42: -1.2753003 | P42: 5.4572255 | Q42: PASSENGER TRANSPORT SERVICES | R42: =VLOOKUP(Q42,'3.1'!Q:R,2,0) -> 여객 운송 서비스
A43: 2 | B43: خدمات نقل البضائع | C43: 3.3522718 | D43: -0.82743777 | E43: 7.1135008 | F43: 2.3286053 | G43: 0.082258776 | H43: 3.4901372 | I43: 1.2953796 | J43: 4.932555 | K43: 1.8107746 | L43: 0.15999227 | M43: -4.013427 | N43: 1.9194837 | O43: -0.35294313 | P43: -1.0853343 | Q43: TRANSPORT SERVICES OF GOODS | R43: =VLOOKUP(Q43,'3.1'!Q:R,2,0) -> 상품 운송 서비스
A44: 1 | B44: المعلومات والاتصالات | C44: -0.3543411 | D44: -0.082298881 | E44: 0.039235645 | F44: -0.75708908 | G44: -0.96914526 | H44: -1.6333767 | I44: 1.0321958 | J44: -4.0787662 | K44: 0.10366154 | L44: 1.8157414 | M44: 0.74087701 | N44: 2.6134313 | O44: -2.0868769 | P44: -0.0097513655 | Q44: INFORMATION AND COMMUNICATION | R44: =VLOOKUP(Q44,'3.1'!Q:R,2,0) -> 정보통신
A45: 2 | B45: معدات المعلومات والاتصالات | C45: -6.4222969 | D45: -5.1494774 | E45: -8.6216708 | F45: -9.4605644 | G45: -10.364882 | H45: -7.3276394 | I45: -0.23264398 | J45: -18.058318 | K45: -5.5151647 | L45: 4.516028 | M45: -1.3495986 | N45: 1.4808295 | O45: -6.6885959 | P45: -2.5472835 | Q45: Information and communication equipment | R45: =VLOOKUP(Q45,'3.1'!Q:R,2,0) -> 정보통신 기기
A46: 2 | B46: المعلومات والاتصالات | C46: 1.3977823 | D46: 1.2038119 | E46: 1.6674134 | F46: 1.5226253 | G46: 1.4616463 | H46: 0.96406212 | I46: 1.4520288 | J46: 1.5908464 | K46: 1.6699233 | L46: 1.072055 | M46: 1.5005252 | N46: 2.8329211 | O46: 1.4915817 | P46: 0.96832581 | Q46: INFORMATION AND COMMUNICATION | R46: =VLOOKUP(Q46,'3.1'!Q:R,2,0) -> 정보통신
A47: 1 | B47: الترفيه والرياضة والثقافة | C47: 2.7326015 | D47: 4.0861073 | E47: -1.0873601 | F47: 4.7773135 | G47: 1.359305 | H47: 4.6516075 | I47: -3.0876621 | J47: 3.3966134 | K47: 1.0202764 | L47: -0.11966158 | M47: 0.23021562 | N47: 2.6033571 | O47: 1.8812286 | P47: -0.23222233 | Q47: RECREATION, SPORT AND CULTURE | R47: =VLOOKUP(Q47,'3.1'!Q:R,2,0) -> 오락, 스포츠 및 문화
A48: 2 | B48: السلع الترفيهية المعمرة | C48: -0.8361216 | D48: -4.4513011 | E48: -2.160823 | F48: 5.6359117 | G48: -5.4298053 | H48: 5.6720323 | I48: -1.4358082 | J48: 0.72900736 | K48: -9.5880467 | L48: 1.1455512 | M48: -14.345089 | N48: 1.5479285 | O48: 1.0977492 | P48: 1.3404616 | Q48: RECREATIONAL DURABLES | R48: =VLOOKUP(Q48,'3.1'!Q:R,2,0) -> 오락용 내구재
A49: 2 | B49: السلع الترفيهية الأخرى | C49: -1.3123549 | D49: -4.640432 | E49: -1.7201603 | F49: -2.9585389 | G49: 8.3888463 | H49: 0.10057261 | I49: -4.3394915 | J49: 4.2370813 | K49: -0.38076988 | L49: -1.0439698 | M49: 10.996555 | N49: 2.4244941 | O49: -0.0053090448 | P49: -7.0027492 | Q49: OTHER RECREATIONAL GOODS | R49: =VLOOKUP(Q49,'3.1'!Q:R,2,0) -> 기타 오락용품
... A51: 2 | B51: الخدمات الترفيهية | C51: 2.1297829 | D51: 6.0442656 | E51: -7.1317258 | F51: 2.2637031 | G51: -0.17535234 | H51: 0.069972256 | I51: 2.7262386 | J51: 11.066657 | K51: -1.1062392 | L51: -4.3475301 | M51: 7.0746516 | N51: -2.1645 | O51: 6.0917315 | P51: -0.46195477 | Q51: RECREATIONAL SERVICES | R51: =VLOOKUP(Q51,'3.1'!Q:R,2,0) -> 오락 서비스
A52: 2 | B52: السلع الثقافية | C52: 2.6090923 | D52: 4.1846551 | E52: 5.5979973 | F52: -0.0001837782 | G52: 1.2333669 | H52: 2.0413583 | I52: 0 | J52: -0.78677121 | K52: -6.97174 | L52: 0 | M52: -0.77871585 | N52: - | O52: -0.0001434664 | P52: 0 | Q52: CULTURAL GOODS | R52: =VLOOKUP(Q52,'3.1'!Q:R,2,0) -> 악기, 음반 및 비디오물
A53: 2 | B53: الخدمات الثقافية | C53: 0.91725562 | D53: 1.469736 | E53: 2.4985083 | F53: 0.3263258 | G53: 1.8943661 | H53: -1.2614425 | I53: 3.21457 | J53: -2.5089226 | K53: -5.0022082 | L53: 0.00017235328 | M53: 2.5472397 | N53: -2.1161332 | O53: -9.5116073 | P53: -3.8004903 | Q53: Cultural services | R53: =VLOOKUP(Q53,'3.1'!Q:R,2,0) -> 문화 서비스
A54: 2 | B54: الصحف والكتب والقرطاسية | C54: 0.57689002 | D54: 1.4374869 | E54: 2.2600637 | F54: -0.6368182 | G54: 2.1052669 | H54: -1.3873122 | I54: -1.3996465 | J54: 0.54273088 | K54: 0.088577737 | L54: -0.005161457 | M54: -0.12212473 | N54: 0.97953679 | O54: 2.8863984 | P54: -3.8714523 | Q54: NEWSPAPERS, BOOKS AND STATIONERY | R54: =VLOOKUP(Q54,'3.1'!Q:R,2,0) -> 서적, 신문 및 문구용품
A55: 2 | B55: عروض العطلات | C55: 5.5118179 | D55: 8.5179465 | E55: 0.27169249 | F55: 13.920112 | G55: -0.32490943 | H55: 8.494577 | I55: -5.4730671 | J55: 5.022724 | K55: 4.3105382 | L55: -0.3992338 | M55: -3.4336271 | N55: 5.0477462 | O55: 2.26389 | P55: 9.5006556 | Q55: PACKAGE HOLIDAYS | R55: =VLOOKUP(Q55,'3.1'!Q:R,2,0) -> 단체여행
A56: 1 | B56: خدمات التعليم | C56: 1.1586844 | D56: 0.9632619 | E56: 1.6801574 | F56: 0.00015448923 | G56: 0.40548828 | H56: 2.2234579 | I56: -0.83295486 | J56: 3.4592516 | K56: -0.1600456 | L56: 0.098739252 | M56: 1.8180153 | N56: -0.12784602 | O56: -0.35195319 | P56: -0.34362242 | Q56: EDUCATION SERVICES | R56: =VLOOKUP(Q56,'3.1'!Q:R,2,0) -> 교육서비스
...

Sheet 3.3 
A5: معدل التغيّر الشهري حسب المنطقة وفئة الإنفاق،سبتمبر 2025م
A6: Monthly Rate Of Change By Region And Expenditure Category, September 2025
A7: 2023=100
A8: 지역별 및 지출범주별 전월대비 백분율 변화
A9: فئة الإنفاق: الأقسام و المجموعات | C9: جميع المناطق | D9: الرياض | E9: مكة المكرمة | F9: المدينة المنورة | G9: القصيم | H9: المنطقة الشرقية | I9: عسير | J9: تبوك | K9: حائل | L9: الحدود الشمالية | M9: جازان | N9: نجران | O9: الباحة | P9: الجوف | Q9: Expenditure Category:Divisions and Groups | R9: 지출범주
C10: All Regions | D10: Riyadh | E10: Makkah | F10: Madinah | G10: Al Qassim | H10: Eastern Province | I10: Aseer | J10: Tabouk | K10: Hail | L10: Northern Borders | M10: Jazan | N10: Najran | O10: Al Baha | P10: Al Jouf
H11: معدل التغيّر الشهري(%)
H12: Monthly Change Rate (%) 전월대비 백분율 변화
A13: 0 | B13: الرقم القياسي العام | C13: -0.061956472 | D13: 0.18624775 | E13: -0.2658542 | F13: -0.26680534 | G13: 0.49735955 | H13: -0.30867191 | I13: -0.65431376 | J13: 0.060291092 | K13: 0.24198944 | L13: -0.0015655062 | M13: 0.085839599 | N13: 0.38793792 | O13: 0.0027989202 | P13: -0.095826427 | Q13: General Index | R13: =VLOOKUP(Q13,'3.1'!Q:R,2,0) -> 일반지수
A14: 1 | B14: الأغذية والمشروبات | C14: 0.11676742 | D14: -0.0031218538 | E14: 0.24048147 | F14: 0.93152992 | G14: 0.82136489 | H14: -0.26038214 | I14: -0.77765899 | J14: 1.0132928 | K14: 0.20903833 | L14: 0.15752053 | M14: 0.086380152 | N14: 0.14804603 | O14: 0.16276091 | P14: 0.18423172 | Q14: FOOD AND BEVERAGES | R14: =VLOOKUP(Q14,'3.1'!Q:R,2,0) -> 식료품 및 음료
A15: 2 | B15: الأغذية | C15: 0.12138275 | D15: -0.0079790603 | E15: 0.25328358 | F15: 0.98737368 | G15: 0.84444615 | H15: -0.26747591 | I15: -0.79963676 | J15: 1.0617724 | K15: 0.19403245 | L15: 0.1613971 | M15: 0.073100716 | N15: 0.14718299 | O15: 0.16536167 | P15: 0.19901102 | Q15: FOOD | R15: =VLOOKUP(Q15,'3.1'!Q:R,2,0) -> 식료품
A16: 2 | B16: المشروبات | C16: -0.052705512 | D16: 0.059696827 | E16: -0.17597022 | F16: -1.0144002 | G16: 0.053958265 | H16: -0.022737689 | I16: 0.15174116 | J16: -0.39448756 | K16: 0.72899854 | L16: 0.062748959 | M16: 0.38928877 | N16: -0.10828333 | O16: 0.068531357 | P16: -0.28450777 | Q16: BEVERAGES | R16: =VLOOKUP(Q16,'3.1'!Q:R,2,0) -> 음료
A17: 2 | B17: خدمات تجهيز السلع الأولية والمشروبات | C17: 0.40490383 | D17: 1.0273228 | E17: -0.73331536 | F17: 0 | G17: -0.099773368 | H17: -0.064711073 | I17: -1.2766825 | J17: 0.14991185 | K17: 0 | L17: -1.0701115 | M17: 0 | N17: 4.9857673 | O17: -0.045015415 | P17: -0.33763834 | Q17: SERVICES FOR PROCESSING PRIMARY GOODS FOR FOOD AND BEVERAGES | R17: =VLOOKUP(Q17,'3.1'!Q:R,2,0) -> 식품 및 음료 가공 서비스
A18: 1 | B18: التبغ | C18: 0.098038589 | D18: 0.28716956 | E18: 0.076554913 | F18: 0 | G18: 0 | H18: 0 | I18: -0.085244156 | J18: 0.19767161 | K18: 0 | L18: -0.52192811 | M18: 0 | N18: 0 | O18: 0 | P18: 0 | Q18: TOBACCO | R18: =VLOOKUP(Q18,'3.1'!Q:R,2,0) -> 담배
A19: 2 | B19: التبغ | C19: 0.098038589 | D19: 0.28716956 | E19: 0.076554913 | F19: 0 | G19: 0 | H19: 0 | I19: -0.085244156 | J19: 0.19767161 | K19: 0 | L19: -0.52192811 | M19: 0 | N19: 0 | O19: 0 | P19: 0 | Q19: TOBACCO | R19: =VLOOKUP(Q19,'3.1'!Q:R,2,0) -> 담배
A20: 1 | B20: الملابس والأحذية | C20: -0.33703728 | D20: 0.0066714625 | E20: -0.25142418 | F20: -1.6620339 | G20: 0.34312399 | H20: -0.77350835 | I20: -0.64211523 | J20: -0.14720901 | K20: -0.31462563 | L20: -0.094886664 | M20: -0.00078587348 | N20: -0.26968168 | O20: 0.025338364 | P20: -0.28185749 | Q20: CLOTHING AND FOOTWEAR | R20: =VLOOKUP(Q20,'3.1'!Q:R,2,0) -> 의류 및 신발
A21: 2 | B21: الملابس | C21: -0.33748905 | D21: 0.0074120576 | E21: -0.32783677 | F21: -1.818802 | G21: 0.45086736 | H21: -0.6628312 | I21: -0.65968361 | J21: -0.13204072 | K21: -0.2772468 | L21: -0.091759299 | M21: 0 | N21: -0.25447373 | O21: 0.047970317 | P21: -0.28074237 | Q21: CLOTHING | R21: =VLOOKUP(Q21,'3.1'!Q:R,2,0) -> 의류
A22: 2 | B22: الأحذية | C22: -0.33244848 | D22: 0 | E22: 0.7096798 | F22: 0.0059382766 | G22: -0.70501858 | H22: -1.8097728 | I22: -0.47974696 | J22: -0.32149792 | K22: -0.74470226 | L22: -0.12273998 | M22: -0.0093176542 | N22: -0.47815235 | O22: -0.25281348 | P22: -0.29567527 | Q22: FOOTWEAR | R22: =VLOOKUP(Q22,'3.1'!Q:R,2,0) -> 신발
A23: 1 | B23: السكن والمياه والكهرباء والغاز وأنواع الوقود الأخرى | C23: 0.40036379 | D23: 0.45766143 | E23: 0.13454294 | F23: 1.1245604 | G23: 0.93413608 | H23: 0.0014928296 | I23: 0.70108998 | J23: 0.34107094 | K23: 1.1886695 | L23: 0.94813987 | M23: 0.56899337 | N23: 1.6157661 | O23: 0.23903891 | P23: -0.1899804 | Q23: HOUSING, WATER, ELECTRICITY, GAS AND OTHER FUELS | R23: =VLOOKUP(Q23,'3.1'!Q:R,2,0) -> 주택, 수도, 전기, 가스 및 기타 연료
A24: 2 | B24: الإيجارات الفعلية للسكن | C24: 0.60335492 | D24: 0.70979779 | E24: 0.12348364 | F24: 1.9970411 | G24: 1.1614045 | H24: -0.11370448 | I24: 0.89650137 | J24: 0.60619318 | K24: 1.6617065 | L24: 1.3480026 | M24: 1.3421543 | N24: 2.5853544 | O24: 0.32183383 | P24: 0.35842098 | Q24: ACTUAL RENTALS FOR HOUSING | R24: =VLOOKUP(Q24,'3.1'!Q:R,2,0) -> 주택 지불 임차료
... A38: 2 | B38: خدمات العيادات الخارجية | C38: -0.054140443 | D38: 0.44791322 | E38: -0.11562411 | F38: -2.2523904 | G38: 0.081258254 | H38: -0.83492119 | I38: 0.75773499 | J38: -1.6073664 | K38: 0.19525946 | L38: -0.27030081 | M38: 0 | N38: 0.34726963 | O38: 0.10914781 | P38: 0.48683059 | Q38: OUTPATIENT CARE SERVICES | R38: =VLOOKUP(Q38,'3.1'!Q:R,2,0) -> 외래 환자 치료 서비스
A39: 2 | B39: خدمات الرعاية الداخلية (التنويم) | C39: 0.090570487 | D39: 0.61746356 | E39: -0.36199254 | F39: -1.3441273 | G39: 0 | H39: -0.12559025 | I39: 0.052170822 | J39: 0 | K39: 0 | L39: - | M39: 0 | N39: 0 | O39: 0 | P39: -0.00065198633 | Q39: INPATIENT CARE SERVICES | R39: =VLOOKUP(Q39,'3.1'!Q:R,2,0) -> 입원 환자 치료 서비스
A40: 2 | B40: خدمات التصوير التشخيصي وخدمات المختبرات الطبية | C40: -0.38465356 | D40: 0.25671934 | E40: -0.033563189 | F40: -5.9959722 | G40: 0.43134789 | H40: 0.11829395 | I40: 0 | J40: 0 | K40: 0 | L40: 0 | M40: 0 | N40: 0.80563617 | O40: 0 | P40: 0.11700077 | Q40: Diagnostic imaging services and medical laboratory services | R40: =VLOOKUP(Q40,'3.1'!Q:R,2,0) -> 진단 영상 및 의료 검사 서비스
A41: 1 | B41: النقل | C41: -0.39545551 | D41: 0.0010044922 | E41: -0.40889519 | F41: -0.78562307 | G41: 0.023901963 | H41: -0.85867802 | I41: -1.2714048 | J41: -0.2356247 | K41: -0.086211804 | L41: -1.9197934 | M41: -0.68303429 | N41: -0.6059502 | O41: -0.35458822 | P41: -0.061183848 | Q41: TRANSPORT | R41: =VLOOKUP(Q41,'3.1'!Q:R,2,0) -> 운송
A42: 2 | B42: شراء المركبات | C42: -0.094982844 | D42: 0 | E42: 0.00078442504 | F42: -0.80350298 | G42: -0.17046376 | H42: -0.29131203 | I42: 1.0637645 | J42: 0.036950164 | K42: -0.1667334 | L42: -0.0066204017 | M42: -1.1065762 | N42: 0 | O42: -0.64541717 | P42: 0 | Q42: PURCHASE OF VEHICLES | R42: =VLOOKUP(Q42,'3.1'!Q:R,2,0) -> 개인 운송장비 구매
A43: 2 | B43: تشغيل معدات النقل الشخصية | C43: 0.0071045289 | D43: 0.002316231 | E43: -0.00090621058 | F43: -0.58563986 | G43: 0.027038796 | H43: 0.16582006 | I43: -0.079078013 | J43: 0.35283255 | K43: -0.044094227 | L43: 0.085275037 | M43: 0.14097011 | N43: -0.27921085 | O43: 0.006491592 | P43: -0.059296116 | Q43: OPERATION OF PERSONAL TRANSPORT EQUIPMENT | R43: =VLOOKUP(Q43,'3.1'!Q:R,2,0) -> 개인 운송장비 운영
A44: 2 | B44: خدمات نقل الركاب | C44: -1.4107702 | D44: 0 | E44: -1.5472391 | F44: -1.4207288 | G44: 0.38118757 | H44: -3.731253 | I44: -9.3444205 | J44: -2.1172851 | K44: -0.041330607 | L44: -8.8959787 | M44: -2.9483228 | N44: -2.1890799 | O44: -0.60378161 | P44: -0.1168706 | Q44: PASSENGER TRANSPORT SERVICES | R44: =VLOOKUP(Q44,'3.1'!Q:R,2,0) -> 여객 운송 서비스
A45: 2 | B45: خدمات نقل البضائع | C45: 0.087737256 | D45: 0 | E45: 0.016283873 | F45: 0 | G45: 0 | H45: -1.110223e-14 | I45: 0.77439081 | J45: 1.8675651 | K45: 0 | L45: 0.06418739 | M45: 0 | N45: 0.22860697 | O45: 0 | P45: 0 | Q45: TRANSPORT SERVICES OF GOODS | R45: =VLOOKUP(Q45,'3.1'!Q:R,2,0) -> 상품 운송 서비스
A46: 1 | B46: المعلومات والاتصالات | C46: -0.10173879 | D46: -0.071386462 | E46: -0.12164023 | F46: -0.74520161 | G46: 0.12825136 | H46: 0.045326621 | I46: 0.19198506 | J46: -0.97045574 | K46: -0.029771603 | L46: -0.060526963 | M46: -0.039982027 | N46: -0.022369368 | O46: -0.064346229 | P46: -0.36697594 | Q46: INFORMATION AND COMMUNICATION | R46: =VLOOKUP(Q46,'3.1'!Q:R,2,0) -> 정보통신
A47: 2 | B47: معدات المعلومات والاتصالات | C47: -0.41209481 | D47: -0.32382417 | E47: -0.81545224 | F47: -3.7158258 | G47: 0.66371239 | H47: 0.28458398 | I47: 0.68642024 | J47: -3.5725095 | K47: -0.092921327 | L47: -0.29901616 | M47: 0.0017363633 | N47: -0.11565707 | O47: -0.15075123 | P47: -1.181104 | Q47: Information and communication equipment | R47: =VLOOKUP(Q47,'3.1'!Q:R,2,0) -> 정보통신 기기
A48: 2 | B48: المعلومات والاتصالات | C48: -0.018158843 | D48: -0.01207916 | E48: -0.0084473958 | F48: -0.0060273224 | G48: 0.0025318709 | H48: -0.056594011 | I48: -0.0049638555 | J48: -0.0069876547 | K48: -0.013783899 | L48: 0 | M48: -0.055065504 | N48: -0.0023108896 | O48: 0 | P48: -0.046373163 | Q48: INFORMATION AND COMMUNICATION | R48: =VLOOKUP(Q48,'3.1'!Q:R,2,0) -> 정보통신
A49: 1 | B49: الترفيه والرياضة والثقافة | C49: -0.28101201 | D49: 0.12442515 | E49: -0.087551323 | F49: -1.7758261 | G49: -0.27996422 | H49: -0.31867801 | I49: -2.6481785 | J49: 0.16894217 | K49: 0.13846357 | L49: -1.8014995 | M49: -1.0389074 | N49: 1.6367959 | O49: 0.075505671 | P49: -0.031111963 | Q49: RECREATION, SPORT AND CULTURE | R49: =VLOOKUP(Q49,'3.1'!Q:R,2,0) -> 오락, 스포츠 및 문화
A50: 2 | B50: السلع الترفيهية المعمرة | C50: 0.56556791 | D50: 0 | E50: 0.67552498 | F50: 2.1040629 | G50: 0.1582117 | H50: 1.0746568 | I50: 0.00074061271 | J50: 1.2401933 | K50: 0.2678921 | L50: 0 | M50: 0 | N50: 0 | O50: 6.1175315 | P50: -0.17736411 | Q50: RECREATIONAL DURABLES | R50: =VLOOKUP(Q50,'3.1'!Q:R,2,0) -> 오락용 내구재
A51: 2 | B51: السلع الترفيهية الأخرى | C51: -0.4171688 | D51: 0 | E51: -0.45022006 | F51: -1.8390029 | G51: -0.059497193 | H51: -0.63131377 | I51: -2.5367809 | J51: -0.52261416 | K51: -0.092118007 | L51: 0.017842279 | M51: 0.29643017 | N51: -1.1480548 | O51: -0.0027436721 | P51: -1.1634143 | Q51: OTHER RECREATIONAL GOODS | R51: =VLOOKUP(Q51,'3.1'!Q:R,2,0) -> 기타 오락용품
... A53: 2 | B53: الخدمات الترفيهية | C53: 0.053537171 | D53: -0.25082323 | E53: 0.7597734 | F53: -0.42040526 | G53: 0.54365329 | H53: 0.39014557 | I53: -0.92530746 | J53: 0.27171774 | K53: 3.0799834 | L53: -0.038145389 | M53: -0.66364863 | N53: -0.69914528 | O53: 2.343411 | P53: -0.52722862 | Q53: RECREATIONAL SERVICES | R53: =VLOOKUP(Q53,'3.1'!Q:R,2,0) -> 오락 서비스
A54: 2 | B54: السلع الثقافية | C54: -0.15436323 | D54: 0 | E54: 0 | F54: 0 | G54: 0 | H54: -0.2736347 | I54: 0 | J54: 0 | K54: -2.7366252 | L54: 0 | M54: 0 | N54: - | O54: 0 | P54: 0 | Q54: CULTURAL GOODS | R54: =VLOOKUP(Q54,'3.1'!Q:R,2,0) -> 악기, 음반 및 비디오물
A55: 2 | B55: الخدمات الثقافية | C55: -0.5795309 | D55: 0.068028666 | E55: -0.48739866 | F55: -0.98495721 | G55: 0 | H55: -1.9168325 | I55: -4.2495136 | J55: 2.0852744 | K55: 0 | L55: 0 | M55: 0 | N55: -0.59112054 | O55: -9.650904 | P55: -4.6333363 | Q55: Cultural services | R55: =VLOOKUP(Q55,'3.1'!Q:R,2,0) -> 문화 서비스
A56: 2 | B56: الصحف والكتب والقرطاسية | C56: -0.038755955 | D56: 0 | E56: 0.013978619 | F56: 0 | G56: 0.016522617 | H56: -0.09549548 | I56: 0.35836188 | J56: -0.5706399 | K56: 0 | L56: 0 | M56: 0 | N56: 0 | O56: 0 | P56: -1.3470532 | Q56: NEWSPAPERS, BOOKS AND STATIONERY | R56: =VLOOKUP(Q56,'3.1'!Q:R,2,0) -> 서적, 신문 및 문구용품
A57: 2 | B57: عروض العطلات | C57: -0.53393572 | D57: 0 | E57: -0.20272055 | F57: -3.5099112 | G57: -0.74280697 | H57: -0.29238954 | I57: -5.4427062 | J57: 3.2675114 | K57: -0.34919999 | L57: -7.2985449 | M57: -1.9233591 | N57: 4.6706631 | O57: 0 | P57: 3.2416921 | Q57: PACKAGE HOLIDAYS | R57: =VLOOKUP(Q57,'3.1'!Q:R,2,0) -> 단체여행
A58: 1 | B58: خدمات التعليم | C58: 0.34068206 | D58: 0.51348263 | E58: 0.015075506 | F58: -0.84593246 | G58: 0 | H58: 0.18377442 | I58: -0.28977546 | J58: -0.012357163 | K58: 0 | L58: -0.044650137 | M58: 0 | N58: -0.12215126 | O58: -1.1827573 | P58: 0.00077990633 | Q58: EDUCATION SERVICES | R58: =VLOOKUP(Q58,'3.1'!Q:R,2,0) -> 교육서비스
...

Sheet 4.1 
A6: سلسلة الأرقام القياسية حسب المنطقة، 2013-2025
A7: Regional Index Series, 2013-2025
A8: 2023=100
A9: 지역별 지수 시계열
A10: العام Year | B10: الشهر Month | E10: الأرقام القياسية Index Numbers 지수
E12: جميع المناطق | F12: الرياض | G12: مكة المكرمة | H12: المدينة المنورة | I12: القصيم | J12: المنطقة الشرقية | K12: عسير | L12: تبوك | M12: حائل | N12: الحدود الشمالية | O12: جازان | P12: نجران | Q12: الباحة | R12: الجوف
E13: All Regions | F13: Riyadh | G13: Makkah | H13: Madinah | I13: Al Qassim | J13: Eastern Province | K13: Aseer | L13: Tabouk | M13: Hail | N13: Northern Borders | O13: Jazan | P13: Najran | Q13: Al Baha | R13: Al Jouf
A14: 2013 | B14: 1 | C14: يناير | D14: January | E14: 84.634418 | F14: 80.110218 | G14: 83.646077 | H14: 78.794651 | I14: 88.658075 | J14: 93.442479 | K14: 82.717422 | L14: 92.409967 | M14: 96.89451 | N14: 99.099126 | O14: 95.696058 | P14: 88.340413 | Q14: 73.011806 | R14: 95.977523
A15: 2013 | B15: 2 | C15: فبراير | D15: February | E15: 84.443173 | F15: 79.732854 | G15: 83.605146 | H15: 78.771021 | I15: 88.719925 | J15: 93.156739 | K15: 82.486617 | L15: 92.377845 | M15: 96.581364 | N15: 99.272168 | O15: 95.719322 | P15: 88.368054 | Q15: 72.902467 | R15: 95.884147
A16: 2013 | B16: 3 | C16: مارس | D16: March | E16: 84.431757 | F16: 79.799059 | G16: 83.454791 | H16: 78.82326 | I16: 88.713943 | J16: 93.233656 | K16: 82.563678 | L16: 92.40726 | M16: 96.622121 | N16: 99.45359 | O16: 95.50552 | P16: 88.363446 | Q16: 72.890787 | R16: 96.146383
A17: 2013 | B17: 4 | C17: أبريل | D17: April | E17: 84.453142 | F17: 79.610267 | G17: 83.608676 | H17: 78.791609 | I17: 88.976172 | J17: 93.359886 | K17: 82.684521 | L17: 92.486815 | M17: 96.567756 | N17: 99.519249 | O17: 95.908157 | P17: 88.435793 | Q17: 73.035639 | R17: 96.229391
A18: 2013 | B18: 5 | C18: مايو | D18: May | E18: 84.442363 | F18: 79.708385 | G18: 83.52288 | H18: 78.968344 | I18: 89.163877 | J18: 93.224254 | K18: 82.668813 | L18: 92.183055 | M18: 96.601857 | N18: 99.533478 | O18: 95.484122 | P18: 88.379331 | Q18: 73.196104 | R18: 95.818113
A19: 2013 | B19: 6 | C19: يونيو | D19: June | E19: 84.459072 | F19: 79.632169 | G19: 83.483271 | H19: 78.889904 | I19: 89.077252 | J19: 93.708508 | K19: 82.666936 | L19: 92.225898 | M19: 96.568112 | N19: 99.365144 | O19: 95.997972 | P19: 88.410035 | Q19: 73.262623 | R19: 95.94828
A20: 2013 | B20: 7 | C20: يوليو | D20: July | E20: 84.837576 | F20: 80.151183 | G20: 83.612714 | H20: 79.399764 | I20: 89.403294 | J20: 94.310659 | K20: 83.155214 | L20: 92.703146 | M20: 97.491374 | N20: 100.96062 | O20: 96.309593 | P20: 87.922408 | Q20: 73.403663 | R20: 96.051102
A21: 2013 | B21: 8 | C21: أغسطس | D21: August | E21: 84.78926 | F21: 79.884826 | G21: 83.894564 | H21: 79.401789 | I21: 89.663323 | J21: 93.657319 | K21: 83.128282 | L21: 92.518295 | M21: 97.177198 | N21: 102.65569 | O21: 96.750597 | P21: 88.000088 | Q21: 73.528873 | R21: 96.213707
A22: 2013 | B22: 9 | C22: سبتمبر | D22: September | E22: 84.896242 | F22: 79.915255 | G22: 83.900788 | H22: 79.781417 | I22: 89.941526 | J22: 93.722716 | K22: 83.200602 | L22: 92.424903 | M22: 97.015467 | N22: 101.93959 | O22: 96.459829 | P22: 88.105881 | Q22: 78.031643 | R22: 96.319403
A23: 2013 | B23: 10 | C23: أكتوبر | D23: October | E23: 85.000363 | F23: 79.832818 | G23: 84.163604 | H23: 79.615191 | I23: 89.697226 | J23: 94.199991 | K23: 83.152054 | L23: 92.685285 | M23: 97.621828 | N23: 100.16377 | O23: 97.017352 | P23: 88.076373 | Q23: 78.33487 | R23: 96.282311
A24: 2013 | B24: 11 | C24: نوفمبر | D24: November | E24: 85.157632 | F24: 79.930895 | G24: 84.464738 | H24: 79.714744 | I24: 89.582128 | J24: 94.186845 | K24: 83.55623 | L24: 92.825583 | M24: 97.739515 | N24: 100.82182 | O24: 97.030294 | P24: 88.127954 | Q24: 78.433463 | R24: 96.324914
A25: 2013 | B25: 12 | C25: ديسمبر | D25: December | E25: 85.248623 | F25: 80.168783 | G25: 84.432892 | H25: 79.565727 | I25: 89.495252 | J25: 94.369648 | K25: 83.675385 | L25: 92.63899 | M25: 97.700543 | N25: 100.22665 | O25: 97.145014 | P25: 88.269031 | Q25: 78.640075 | R25: 96.559478
... A166: 2025 | B166: 9 | C166: سبتمبر | D166: September | E166: 103.83057 | F166: 105.87273 | G166: 101.51439 | H166: 105.92056 | I166: 108.69329 | J166: 102.40139 | K166: 101.15857 | L166: 101.19294 | M166: 103.56705 | N166: 102.43962 | O166: 103.42542 | P166: 106.49181 | Q166: 102.63515 | R166: 102.04472

Sheet 4.2 
A5: سلسلة معدل التغيّر السنوي حسب المنطقة، 2014-2025
A6: Regional Annual Rate Of Change Series, 2014-2025
A7: 2023=100
A8: 지역별 전년동월대비 백분율 변화 시계열
A9: العام | B9: الشهر | E9: جميع المناطق | F9: الرياض | G9: مكة المكرمة | H9: المدينة المنورة | I9: القصيم | J9: المنطقة الشرقية | K9: عسير | L9: تبوك | M9: حائل | N9: الحدود الشمالية | O9: جازان | P9: نجران | Q9: الباحة | R9: الجوف
E10: All Regions | F10: Riyadh | G10: Makkah | H10: Madinah | I10: Al Qassim | J10: Eastern Province | K10: Aseer | L10: Tabouk | M10: Hail | N10: Northern Borders | O10: Jazan | P10: Najran | Q10: Al Baha | R10: Al Jouf
E11: معدل التغيّر (%)
A12: Year | B12: Month | E12: Rate of Change (%) 전년동월대비 백분율 변화
A13: 2014 | B13: 1 | C13: يناير | D13: January | E13: 1.1213042 | F13: 0.25460318 | G13: 1.4218823 | H13: 1.3174246 | I13: 0.93936142 | J13: 2.3266374 | K13: 1.400063 | L13: 0.16549275 | M13: 1.2452443 | N13: 1.7579558 | O13: 1.4021031 | P13: -0.098099362 | Q13: 7.9527949 | R13: 0.714599
A14: 2014 | B14: 2 | C14: فبراير | D14: February | E14: 1.5094513 | F14: 0.93486274 | G14: 1.7663357 | H14: 1.7039946 | I14: 0.64143097 | J14: 2.5274669 | K14: 1.6436396 | L14: 0.39714109 | M14: 1.250282 | N14: 2.6362901 | O14: 0.94006056 | P14: 0.074059065 | Q14: 8.4458929 | R14: 0.6873759
A15: 2014 | B15: 3 | C15: مارس | D15: March | E15: 1.5497379 | F15: 0.79818306 | G15: 2.18941 | H15: 1.931274 | I15: 0.65733559 | J15: 2.5461465 | K15: 1.6766712 | L15: 0.29695719 | M15: 1.2875288 | N15: 3.3845556 | O15: 1.5339282 | P15: 0.098273437 | Q15: 2.9513273 | R15: 0.36734382
A16: 2014 | B16: 4 | C16: أبريل | D16: April | E16: 1.976139 | F16: 1.1654428 | G16: 2.5897601 | H16: 2.2503244 | I16: 0.60881588 | J16: 2.8818761 | K16: 1.6993516 | L16: 0.78597537 | M16: 1.4054207 | N16: 5.5153955 | O16: 1.5319426 | P16: 0.22121319 | Q16: 9.473503 | R16: 0.82379331
A17: 2014 | B17: 5 | C17: مايو | D17: May | E17: 2.0059137 | F17: 0.9492187 | G17: 2.9856035 | H17: 2.3531803 | I17: 0.41587467 | J17: 3.1059862 | K17: 2.4627848 | L17: 1.1844977 | M17: 1.3154346 | N17: 5.6615731 | O17: 1.4473309 | P17: 0.14973914 | Q17: 3.0533932 | R17: 1.6617441
A18: 2014 | B18: 6 | C18: يونيو | D18: June | E18: 2.0607057 | F18: 0.81009055 | G18: 3.0107283 | H18: 2.6862804 | I18: 0.8015749 | J18: 3.1096102 | K18: 2.5533954 | L18: 0.79222932 | M18: 1.5435094 | N18: 6.0032565 | O18: 0.90480307 | P18: 0.10325487 | Q18: 9.2280697 | R18: 1.6769966
A19: 2014 | B19: 7 | C19: يوليو | D19: July | E19: 1.9097072 | F19: 0.51186039 | G19: 3.2789195 | H19: 2.693532 | I19: 0.88995392 | J19: 2.3718938 | K19: 2.14963 | L19: -0.46473418 | M19: 0.86643148 | N19: 4.9332567 | O19: 1.0716 | P19: 0.73302107 | Q19: 9.3452995 | R19: 1.5952185
A20: 2014 | B20: 8 | C20: أغسطس | D20: August | E20: 2.0802233 | F20: 0.50551658 | G20: 3.071227 | H20: 3.2482861 | I20: 0.76633431 | J20: 4.029562 | K20: 2.435361 | L20: 0.0084838106 | M20: 0.89089973 | N20: 4.2090133 | O20: 1.5515326 | P20: 0.81287576 | Q20: 9.5016213 | R20: 1.5443515
A21: 2014 | B21: 9 | C21: سبتمبر | D21: September | E21: 2.0092073 | F21: 0.34878961 | G21: 3.3146063 | H21: 2.7779712 | I21: 0.74753051 | J21: 3.753675 | K21: 2.5912999 | L21: 0.28077265 | M21: 1.6424221 | N21: 4.9702037 | O21: 1.8121932 | P21: 0.91488349 | Q21: 3.5210127 | R21: 1.6385091
A22: 2014 | B22: 10 | C22: أكتوبر | D22: October | E22: 1.9624809 | F22: 0.61736419 | G22: 3.1136089 | H22: 3.8763101 | I22: 1.1605989 | J22: 3.2654554 | K22: 2.6367791 | L22: 0.95241487 | M22: 0.98821152 | N22: 6.6940157 | O22: 1.3115037 | P22: 0.99871799 | Q22: -3.2530647 | R22: 1.7471566
A23: 2014 | B23: 11 | C23: نوفمبر | D23: November | E23: 1.9556189 | F23: 0.63816303 | G23: 2.712147 | H23: 4.1502149 | I23: 1.1835126 | J23: 3.1199878 | K23: 3.0206964 | L23: 0.74455913 | M23: 0.96065043 | N23: 5.8858485 | O23: 2.4280941 | P23: 0.87743243 | Q23: 2.8089371 | R23: 1.8524717
A24: 2014 | B24: 12 | C24: ديسمبر | D24: December | E24: 1.8788636 | F24: 0.35190526 | G24: 2.7135289 | H24: 4.2666594 | I24: 1.1879435 | J24: 3.2460452 | K24: 2.8941475 | L24: 0.70512783 | M24: 0.88889784 | N24: 5.3128024 | O24: 3.3078299 | P24: 0.73656708 | Q24: 2.563591 | R24: 1.5942872
... A153: 2025 | B153: 9 | C153: سبتمبر | D153: September | E153: 2.178564 | F153: 3.402596 | G153: 1.5626264 | H153: 2.872873 | I153: 1.2370025 | J153: 1.1024564 | K153: 0.93756856 | L153: 1.4410754 | M153: 0.75041711 | N153: 1.232088 | O153: 2.1800976 | P153: 4.7304002 | Q153: 2.0822379 | R153: 0.46533398

Sheet 4.3 
A6: سلسلة معدل التغيّرالشهري حسب المنطقة، 2013-2025
A7: Regional Monthly Rate Of Change Series, 2013-2025
A8: 2023=100
A9: 지역별 전월대비 백분율 변화 시계열
A10: العام | B10: الشهر | E10: جميع المناطق | F10: الرياض | G10: مكة المكرمة | H10: المدينة المنورة | I10: القصيم | J10: المنطقة الشرقية | K10: عسير | L10: تبوك | M10: حائل | N10: الحدود الشمالية | O10: جازان | P10: نجران | Q10: الباحة | R10: الجوف
E11: All Regions | F11: Riyadh | G11: Makkah | H11: Madinah | I11: Al Qassim | J11: Eastern Province | K11: Aseer | L11: Tabouk | M11: Hail | N11: Northern Borders | O11: Jazan | P11: Najran | Q11: Al Baha | R11: Al Jouf
E12: معدل التغيّر (%)
A13: Year | C13: Month | E13: Rate of Change (%) 전월대비 백분율 변화
A14: 2013 | B14: 2 | C14: فبراير | D14: February | E14: -0.22596683 | F14: -0.47105592 | G14: -0.048933355 | H14: -0.029990235 | I14: 0.069762369 | J14: -0.30579232 | K14: -0.27902854 | L14: -0.03475994 | M14: -0.32318244 | N14: 0.17461583 | O14: 0.024310062 | P14: 0.031288648 | Q14: -0.14975472 | R14: -0.097289225
A15: 2013 | B15: 3 | C15: مارس | D15: March | E15: -0.013519211 | F15: 0.083033418 | G15: -0.1798394 | H15: 0.066318049 | I15: -0.0067422587 | J15: 0.082566743 | K15: 0.093423408 | L15: 0.031842128 | M15: 0.042199316 | N15: 0.18275197 | O15: -0.22336348 | P15: -0.0052146041 | Q15: -0.016021334 | R15: 0.27349248
A16: 2013 | B16: 4 | C16: أبريل | D16: April | E16: 0.025328988 | F16: -0.23658326 | G16: 0.18439398 | H16: -0.040154424 | I16: 0.29559004 | J16: 0.13539185 | K16: 0.14636256 | L16: 0.086091425 | M16: -0.056265104 | N16: 0.066019409 | O16: 0.4215855 | P16: 0.081874927 | Q16: 0.19872451 | R16: 0.086334139
A17: 2013 | B17: 5 | C17: مايو | D17: May | E17: -0.012763493 | F17: 0.12324725 | G17: -0.10261706 | H17: 0.22430711 | I17: 0.21096096 | J17: -0.14527912 | K17: -0.018997023 | L17: -0.32843611 | M17: 0.035312464 | N17: 0.014297797 | O17: -0.44212631 | P17: -0.06384598 | Q17: 0.21970799 | R17: -0.42739245
A18: 2013 | B18: 6 | C18: يونيو | D18: June | E18: 0.019787741 | F18: -0.095618206 | G18: -0.047422845 | H18: -0.09933138 | I18: -0.097153068 | J18: 0.51945018 | K18: -0.002270775 | L18: 0.046476658 | M18: -0.034931753 | N18: -0.16912301 | O18: 0.53815163 | P18: 0.034741119 | Q18: 0.090877408 | R18: 0.13584813
A19: 2013 | B19: 7 | C19: يوليو | D19: July | E19: 0.44814992 | F19: 0.65176349 | G19: 0.15505314 | H19: 0.64629382 | I19: 0.36602115 | J19: 0.64257964 | K19: 0.59065681 | L19: 0.5174771 | M19: 0.95607391 | N19: 1.6056659 | O19: 0.32461201 | P19: -0.55155125 | Q19: 0.19251329 | R19: 0.10716315
A20: 2013 | B20: 8 | C20: أغسطس | D20: August | E20: -0.05695088 | F20: -0.33231817 | G20: 0.33708929 | H20: 0.0025495077 | I20: 0.29085051 | J20: -0.69275319 | K20: -0.032387804 | L20: -0.19940086 | M20: -0.32226128 | N20: 1.6789453 | O20: 0.45790252 | P20: 0.08835107 | Q20: 0.17057687 | R20: 0.16929008
A21: 2013 | B21: 9 | C21: سبتمبر | D21: September | E21: 0.1261744 | F21: 0.038092097 | G21: 0.007419077 | H21: 0.47811119 | I21: 0.3102747 | J21: 0.069825074 | K21: 0.086998449 | L21: -0.10094491 | M21: -0.16642859 | N21: -0.69757243 | O21: -0.30053319 | P21: 0.12021872 | Q21: 6.1238117 | R21: 0.10985591
A22: 2013 | B22: 10 | C22: أكتوبر | D22: October | E22: 0.12264454 | F22: -0.10315646 | G22: 0.31324699 | H22: -0.2083527 | I22: -0.27162053 | J22: 0.50924152 | K22: -0.058350497 | L22: 0.28172289 | M22: 0.62501447 | N22: -1.7420375 | O22: 0.57798422 | P22: -0.033491452 | Q22: 0.38859473 | R22: -0.03850946
A23: 2013 | B23: 11 | C23: نوفمبر | D23: November | E23: 0.18502134 | F23: 0.12285389 | G23: 0.35779544 | H23: 0.12504248 | I23: -0.12831854 | J23: -0.01395505 | K23: 0.48606904 | L23: 0.15137082 | M23: 0.12055454 | N23: 0.65698135 | O23: 0.013340363 | P23: 0.058564159 | Q23: 0.12586159 | R23: 0.044247957
A24: 2013 | B24: 12 | C24: ديسمبر | D24: December | E24: 0.10685072 | F24: 0.29761705 | G24: -0.037703566 | H24: -0.18693778 | I24: -0.096978989 | J24: 0.19408591 | K24: 0.14260438 | L24: -0.20101508 | M24: -0.039873611 | N24: -0.59031884 | O24: 0.11823128 | P24: 0.16008135 | Q24: 0.26342307 | R24: 0.2435131
